BEGIN:VCALENDAR
VERSION:2.0
PRODID:-//eventon.com NONSGML v1.0//EN
CALSCALE:GREGORIAN
METHOD:PUBLISH
BEGIN:VEVENT
UID:69e8891b7f149
DTSTAMP:20260422T083851Z
DTSTART:20250814T171100Z
DTEND:20250814T171100Z
LOCATION:
SUMMARY:SEXY\,  YOUNG & WILD | GARDEN OF EDEN FOAM PARTY
DESCRIPTION:Shed your inhibitions and embrace your inner sinner as we celeb
 rate in The Garden of Eden. Experience an afternoon of allure\,  enchantmen
 t\,  and indulgence as you and your partner explore the forbidden fruits of
  desire. It’ll be a day of foamy fun under the sun filled with pleasure i
 n paradise.[..]\nhttps://www.desire-experience.com/events/sexy-young-wild-g
 arden-of-eden-foam-party-2/
URL:https://www.desire-experience.com/events/sexy-young-wild-garden-of-eden-foam-party-2/
END:VEVENT
END:VCALENDAR