BEGIN:VCALENDAR
VERSION:2.0
PRODID:-//eventon.com NONSGML v1.0//EN
CALSCALE:GREGORIAN
METHOD:PUBLISH
BEGIN:VEVENT
UID:69e7761e4bcf7
DTSTAMP:20260421T130534Z
DTSTART:20240704
DTEND:20240705
LOCATION:
SUMMARY:RED\,  WHITE & YOU
DESCRIPTION:Prepare yourselves for a patriotic journey of red\,  white\,  a
 nd blue\,  that has never been so cool. Grab a cold brew and join us at the
  pool for exciting entertainment and a spectacular BBQ\,  a truly mind-blow
 ing celebration. There’s no better place on Earth for couples to exercise
  their freedom[..]\nhttps://www.desire-experience.com/events/red-white-you/
URL:https://www.desire-experience.com/events/red-white-you/
END:VEVENT
END:VCALENDAR