BEGIN:VCALENDAR
VERSION:2.0
PRODID:-//eventon.com NONSGML v1.0//EN
CALSCALE:GREGORIAN
METHOD:PUBLISH
BEGIN:VEVENT
UID:69e89fe86eb0b
DTSTAMP:20260422T101608Z
DTSTART:20250104
DTEND:20250105
LOCATION:
SUMMARY:SEA SPLASH FOAM PARTY | DESIRE LIFESTYLE MONTH
DESCRIPTION:At Desire Resorts\,  never be afraid to make a splash! Dive int
 o our aquatic oasis and feel the enchantment as bubbles fill the air\,  tra
 nsforming our pool into a silky sea of foam. Couples will enjoy an unforget
 table\,  immersive experience that will satisfy the senses while making new
  friendships. Highlights:[..]\nhttps://www.desire-experience.com/events/sea
 -splash-foam-party-2/
URL:https://www.desire-experience.com/events/sea-splash-foam-party-2/
END:VEVENT
END:VCALENDAR