BEGIN:VCALENDAR
VERSION:2.0
PRODID:-//eventon.com NONSGML v1.0//EN
CALSCALE:GREGORIAN
METHOD:PUBLISH
BEGIN:VEVENT
UID:69e59d9fc8343
DTSTAMP:20260420T032935Z
DTSTART:20250317T060000Z
DTEND:20250318T055900Z
LOCATION:
SUMMARY:LET’S GET LUCKY
DESCRIPTION:Rediscover the spark with your partner as you uncover what awai
 ts at the end of Desire&#8217;s rainbow. Together\,  we&#8217;ll get lucky 
 as we follow the leprechaun&#8217;s mysterious black pot to reveal surprise
 s amidst the dreamy green scene during a day of sensual poolside shenanigan
 s. Daytime: guest DJ\,  foam party\,  go-go[..]\nhttps://www.desire-experie
 nce.com/events/lets-get-lucky/
URL:https://www.desire-experience.com/events/lets-get-lucky/
END:VEVENT
END:VCALENDAR